BEGIN:VCALENDAR
VERSION:2.0
PRODID:-//Linden Hill Historic Estate - ECPv6.15.18//NONSGML v1.0//EN
CALSCALE:GREGORIAN
METHOD:PUBLISH
X-WR-CALNAME:Linden Hill Historic Estate
X-ORIGINAL-URL:https://linden-hill.org
X-WR-CALDESC:Events for Linden Hill Historic Estate
REFRESH-INTERVAL;VALUE=DURATION:PT1H
X-Robots-Tag:noindex
X-PUBLISHED-TTL:PT1H
BEGIN:VTIMEZONE
TZID:America/Chicago
BEGIN:DAYLIGHT
TZOFFSETFROM:-0600
TZOFFSETTO:-0500
TZNAME:CDT
DTSTART:20240310T080000
END:DAYLIGHT
BEGIN:STANDARD
TZOFFSETFROM:-0500
TZOFFSETTO:-0600
TZNAME:CST
DTSTART:20241103T070000
END:STANDARD
BEGIN:DAYLIGHT
TZOFFSETFROM:-0600
TZOFFSETTO:-0500
TZNAME:CDT
DTSTART:20250309T080000
END:DAYLIGHT
BEGIN:STANDARD
TZOFFSETFROM:-0500
TZOFFSETTO:-0600
TZNAME:CST
DTSTART:20251102T070000
END:STANDARD
BEGIN:DAYLIGHT
TZOFFSETFROM:-0600
TZOFFSETTO:-0500
TZNAME:CDT
DTSTART:20260308T080000
END:DAYLIGHT
BEGIN:STANDARD
TZOFFSETFROM:-0500
TZOFFSETTO:-0600
TZNAME:CST
DTSTART:20261101T070000
END:STANDARD
END:VTIMEZONE
BEGIN:VEVENT
DTSTART;TZID=America/Chicago:20250413T130000
DTEND;TZID=America/Chicago:20250413T150000
DTSTAMP:20260425T231243
CREATED:20250409T153449Z
LAST-MODIFIED:20250409T153449Z
UID:2454-1744549200-1744556400@linden-hill.org
SUMMARY:Egg Hunt
DESCRIPTION:Tour of Gardens at Linden Hill & Beyond Wednesday\, July 15 | 3 PM – 8 PM \nSpend a summer evening exploring the vibrant Linden Hill gardens along with several gorgeous residential gardens throughout the Little Falls area. \n Featured Garden Locations:• Linden Hill: 608 Highland Avenue\, Little Falls\, MN \nMore locations to be announced.... \n Tickets: $10/personAvailable day of the tour at Linden Hill or any featured garden stop. No advance purchase needed. \n Self-Guided ExperienceVisit stops in any order and at your own pace. Maps with directions provided at each location. Volunteers will greet you at each garden to share property highlights. \n Make it a Night OutPair your garden stroll with dinner or drinks at one of Little Falls’ wonderful local restaurants! \nCome for the flowers\, stay for the charm
URL:https://linden-hill.org/event/egg-hunt/
LOCATION:Linden Hill Historic Estate\, 608 Highland Avenue\, Little Falls\, MN\, 56345\, United States
CATEGORIES:Fund Raisers
ATTACH;FMTTYPE=image/jpeg:https://linden-hill.org/wp-content/uploads/2025/04/Egg-Hunt-Banner.jpg
ORGANIZER;CN="Friends of Linden Hill%2C Inc.":MAILTO:info@linden-hill.org
END:VEVENT
BEGIN:VEVENT
DTSTART;TZID=America/Chicago:20250314T160000
DTEND;TZID=America/Chicago:20250314T200000
DTSTAMP:20260425T231243
CREATED:20250207T154244Z
LAST-MODIFIED:20250226T192517Z
UID:2179-1741968000-1741982400@linden-hill.org
SUMMARY:Linden Hill Happy Hour
DESCRIPTION:Tour of Gardens at Linden Hill & Beyond Wednesday\, July 15 | 3 PM – 8 PM \nSpend a summer evening exploring the vibrant Linden Hill gardens along with several gorgeous residential gardens throughout the Little Falls area. \n Featured Garden Locations:• Linden Hill: 608 Highland Avenue\, Little Falls\, MN \nMore locations to be announced.... \n Tickets: $10/personAvailable day of the tour at Linden Hill or any featured garden stop. No advance purchase needed. \n Self-Guided ExperienceVisit stops in any order and at your own pace. Maps with directions provided at each location. Volunteers will greet you at each garden to share property highlights. \n Make it a Night OutPair your garden stroll with dinner or drinks at one of Little Falls’ wonderful local restaurants! \nCome for the flowers\, stay for the charm
URL:https://linden-hill.org/event/linden-hill-happy-hour/
LOCATION:Linden Hill Historic Estate\, 608 Highland Avenue\, Little Falls\, MN\, 56345\, United States
CATEGORIES:Fund Raisers
ATTACH;FMTTYPE=image/png:https://linden-hill.org/wp-content/uploads/2025/02/Happy-Hour-2025-Graphic.png
ORGANIZER;CN="Friends of Linden Hill%2C Inc.":MAILTO:info@linden-hill.org
END:VEVENT
END:VCALENDAR