BEGIN:VCALENDAR
VERSION:2.0
PRODID:-//Linden Hill Historic Estate - ECPv6.15.18//NONSGML v1.0//EN
CALSCALE:GREGORIAN
METHOD:PUBLISH
X-WR-CALNAME:Linden Hill Historic Estate
X-ORIGINAL-URL:https://linden-hill.org
X-WR-CALDESC:Events for Linden Hill Historic Estate
REFRESH-INTERVAL;VALUE=DURATION:PT1H
X-Robots-Tag:noindex
X-PUBLISHED-TTL:PT1H
BEGIN:VTIMEZONE
TZID:America/Chicago
BEGIN:DAYLIGHT
TZOFFSETFROM:-0600
TZOFFSETTO:-0500
TZNAME:CDT
DTSTART:20250309T080000
END:DAYLIGHT
BEGIN:STANDARD
TZOFFSETFROM:-0500
TZOFFSETTO:-0600
TZNAME:CST
DTSTART:20251102T070000
END:STANDARD
BEGIN:DAYLIGHT
TZOFFSETFROM:-0600
TZOFFSETTO:-0500
TZNAME:CDT
DTSTART:20260308T080000
END:DAYLIGHT
BEGIN:STANDARD
TZOFFSETFROM:-0500
TZOFFSETTO:-0600
TZNAME:CST
DTSTART:20261101T070000
END:STANDARD
BEGIN:DAYLIGHT
TZOFFSETFROM:-0600
TZOFFSETTO:-0500
TZNAME:CDT
DTSTART:20270314T080000
END:DAYLIGHT
BEGIN:STANDARD
TZOFFSETFROM:-0500
TZOFFSETTO:-0600
TZNAME:CST
DTSTART:20271107T070000
END:STANDARD
END:VTIMEZONE
BEGIN:VEVENT
DTSTART;TZID=America/Chicago:20260509T130000
DTEND;TZID=America/Chicago:20260509T160000
DTSTAMP:20260425T231239
CREATED:20260217T001026Z
LAST-MODIFIED:20260316T201916Z
UID:2727-1778331600-1778342400@linden-hill.org
SUMMARY:Garden Party Tea
DESCRIPTION:Tour of Gardens at Linden Hill & Beyond Wednesday\, July 15 | 3 PM – 8 PM \nSpend a summer evening exploring the vibrant Linden Hill gardens along with several gorgeous residential gardens throughout the Little Falls area. \n Featured Garden Locations:• Linden Hill: 608 Highland Avenue\, Little Falls\, MN \nMore locations to be announced.... \n Tickets: $10/personAvailable day of the tour at Linden Hill or any featured garden stop. No advance purchase needed. \n Self-Guided ExperienceVisit stops in any order and at your own pace. Maps with directions provided at each location. Volunteers will greet you at each garden to share property highlights. \n Make it a Night OutPair your garden stroll with dinner or drinks at one of Little Falls’ wonderful local restaurants! \nCome for the flowers\, stay for the charm
URL:https://linden-hill.org/event/garden-party-tea-copy/
LOCATION:Linden Hill Historic Estate\, 608 Highland Avenue\, Little Falls\, MN\, 56345\, United States
CATEGORIES:Fund Raisers
ATTACH;FMTTYPE=image/png:https://linden-hill.org/wp-content/uploads/2026/02/Garden-Party-Tea-2026-2.png
ORGANIZER;CN="Friends of Linden Hill%2C Inc.":MAILTO:info@linden-hill.org
END:VEVENT
BEGIN:VEVENT
DTSTART;TZID=America/Chicago:20260520T150000
DTEND;TZID=America/Chicago:20260520T190000
DTSTAMP:20260425T231239
CREATED:20250212T161703Z
LAST-MODIFIED:20260421T194724Z
UID:2201-1779289200-1779303600@linden-hill.org
SUMMARY:Linden Hill Plant Sale
DESCRIPTION:Tour of Gardens at Linden Hill & Beyond Wednesday\, July 15 | 3 PM – 8 PM \nSpend a summer evening exploring the vibrant Linden Hill gardens along with several gorgeous residential gardens throughout the Little Falls area. \n Featured Garden Locations:• Linden Hill: 608 Highland Avenue\, Little Falls\, MN \nMore locations to be announced.... \n Tickets: $10/personAvailable day of the tour at Linden Hill or any featured garden stop. No advance purchase needed. \n Self-Guided ExperienceVisit stops in any order and at your own pace. Maps with directions provided at each location. Volunteers will greet you at each garden to share property highlights. \n Make it a Night OutPair your garden stroll with dinner or drinks at one of Little Falls’ wonderful local restaurants! \nCome for the flowers\, stay for the charm
URL:https://linden-hill.org/event/linden-hill-plant-sale/
LOCATION:Linden Hill Historic Estate\, 608 Highland Avenue\, Little Falls\, MN\, 56345\, United States
CATEGORIES:Fund Raisers
ATTACH;FMTTYPE=image/png:https://linden-hill.org/wp-content/uploads/2025/02/Plant-Sale-2026.png
ORGANIZER;CN="Friends of Linden Hill%2C Inc.":MAILTO:info@linden-hill.org
END:VEVENT
BEGIN:VEVENT
DTSTART;TZID=America/Chicago:20260611T170000
DTEND;TZID=America/Chicago:20260611T200000
DTSTAMP:20260425T231239
CREATED:20260217T002927Z
LAST-MODIFIED:20260217T002927Z
UID:2732-1781197200-1781208000@linden-hill.org
SUMMARY:A Midsummer Soiree
DESCRIPTION:Tour of Gardens at Linden Hill & Beyond Wednesday\, July 15 | 3 PM – 8 PM \nSpend a summer evening exploring the vibrant Linden Hill gardens along with several gorgeous residential gardens throughout the Little Falls area. \n Featured Garden Locations:• Linden Hill: 608 Highland Avenue\, Little Falls\, MN \nMore locations to be announced.... \n Tickets: $10/personAvailable day of the tour at Linden Hill or any featured garden stop. No advance purchase needed. \n Self-Guided ExperienceVisit stops in any order and at your own pace. Maps with directions provided at each location. Volunteers will greet you at each garden to share property highlights. \n Make it a Night OutPair your garden stroll with dinner or drinks at one of Little Falls’ wonderful local restaurants! \nCome for the flowers\, stay for the charm
URL:https://linden-hill.org/event/a-midsummer-soiree-copy-2/
LOCATION:Linden Hill Historic Estate\, 608 Highland Avenue\, Little Falls\, MN\, 56345\, United States
CATEGORIES:Fund Raisers
ATTACH;FMTTYPE=image/png:https://linden-hill.org/wp-content/uploads/2026/02/Midsummer-2026.png
ORGANIZER;CN="Friends of Linden Hill%2C Inc.":MAILTO:info@linden-hill.org
END:VEVENT
BEGIN:VEVENT
DTSTART;TZID=America/Chicago:20260715T150000
DTEND;TZID=America/Chicago:20260715T200000
DTSTAMP:20260425T231239
CREATED:20250224T175138Z
LAST-MODIFIED:20260219T194821Z
UID:2229-1784127600-1784145600@linden-hill.org
SUMMARY:Community Tour of Gardens
DESCRIPTION:Tour of Gardens at Linden Hill & Beyond Wednesday\, July 15 | 3 PM – 8 PM \nSpend a summer evening exploring the vibrant Linden Hill gardens along with several gorgeous residential gardens throughout the Little Falls area. \n Featured Garden Locations:• Linden Hill: 608 Highland Avenue\, Little Falls\, MN \nMore locations to be announced.... \n Tickets: $10/personAvailable day of the tour at Linden Hill or any featured garden stop. No advance purchase needed. \n Self-Guided ExperienceVisit stops in any order and at your own pace. Maps with directions provided at each location. Volunteers will greet you at each garden to share property highlights. \n Make it a Night OutPair your garden stroll with dinner or drinks at one of Little Falls’ wonderful local restaurants! \nCome for the flowers\, stay for the charm
URL:https://linden-hill.org/event/community-tour-of-gardens/
LOCATION:Linden Hill Historic Estate\, 608 Highland Avenue\, Little Falls\, MN\, 56345\, United States
CATEGORIES:Fund Raisers
ATTACH;FMTTYPE=image/png:https://linden-hill.org/wp-content/uploads/2025/02/Community-Garden-Tour-Banner-2026.png
ORGANIZER;CN="Friends of Linden Hill%2C Inc.":MAILTO:info@linden-hill.org
END:VEVENT
BEGIN:VEVENT
DTSTART;TZID=America/Chicago:20260722T180000
DTEND;TZID=America/Chicago:20260722T200000
DTSTAMP:20260425T231239
CREATED:20250224T173836Z
LAST-MODIFIED:20260219T200418Z
UID:2225-1784743200-1784750400@linden-hill.org
SUMMARY:FREE Concert on the Lawn
DESCRIPTION:Tour of Gardens at Linden Hill & Beyond Wednesday\, July 15 | 3 PM – 8 PM \nSpend a summer evening exploring the vibrant Linden Hill gardens along with several gorgeous residential gardens throughout the Little Falls area. \n Featured Garden Locations:• Linden Hill: 608 Highland Avenue\, Little Falls\, MN \nMore locations to be announced.... \n Tickets: $10/personAvailable day of the tour at Linden Hill or any featured garden stop. No advance purchase needed. \n Self-Guided ExperienceVisit stops in any order and at your own pace. Maps with directions provided at each location. Volunteers will greet you at each garden to share property highlights. \n Make it a Night OutPair your garden stroll with dinner or drinks at one of Little Falls’ wonderful local restaurants! \nCome for the flowers\, stay for the charm
URL:https://linden-hill.org/event/free-concert-on-the-lawn/
LOCATION:Linden Hill Historic Estate\, 608 Highland Avenue\, Little Falls\, MN\, 56345\, United States
CATEGORIES:Free Event
ATTACH;FMTTYPE=image/png:https://linden-hill.org/wp-content/uploads/2025/02/Concert-on-the-lawn-banner-2026.png
ORGANIZER;CN="Friends of Linden Hill%2C Inc.":MAILTO:info@linden-hill.org
END:VEVENT
BEGIN:VEVENT
DTSTART;TZID=America/Chicago:20260820T170000
DTEND;TZID=America/Chicago:20260820T210000
DTSTAMP:20260425T231239
CREATED:20260219T194124Z
LAST-MODIFIED:20260219T194157Z
UID:2748-1787245200-1787259600@linden-hill.org
SUMMARY:2nd Annual Lumberjack Fest
DESCRIPTION:Tour of Gardens at Linden Hill & Beyond Wednesday\, July 15 | 3 PM – 8 PM \nSpend a summer evening exploring the vibrant Linden Hill gardens along with several gorgeous residential gardens throughout the Little Falls area. \n Featured Garden Locations:• Linden Hill: 608 Highland Avenue\, Little Falls\, MN \nMore locations to be announced.... \n Tickets: $10/personAvailable day of the tour at Linden Hill or any featured garden stop. No advance purchase needed. \n Self-Guided ExperienceVisit stops in any order and at your own pace. Maps with directions provided at each location. Volunteers will greet you at each garden to share property highlights. \n Make it a Night OutPair your garden stroll with dinner or drinks at one of Little Falls’ wonderful local restaurants! \nCome for the flowers\, stay for the charm
URL:https://linden-hill.org/event/lumberjack-fest-new-event-copy/
LOCATION:Linden Hill Historic Estate\, 608 Highland Avenue\, Little Falls\, MN\, 56345\, United States
CATEGORIES:Fund Raisers
ATTACH;FMTTYPE=image/png:https://linden-hill.org/wp-content/uploads/2026/02/Lumberjack-Fest-Banner-48-x-24-in-scaled.png
ORGANIZER;CN="Friends of Linden Hill%2C Inc.":MAILTO:info@linden-hill.org
END:VEVENT
END:VCALENDAR