BEGIN:VCALENDAR
VERSION:2.0
PRODID:-//Linden Hill Historic Estate - ECPv6.15.18//NONSGML v1.0//EN
CALSCALE:GREGORIAN
METHOD:PUBLISH
X-WR-CALNAME:Linden Hill Historic Estate
X-ORIGINAL-URL:https://linden-hill.org
X-WR-CALDESC:Events for Linden Hill Historic Estate
REFRESH-INTERVAL;VALUE=DURATION:PT1H
X-Robots-Tag:noindex
X-PUBLISHED-TTL:PT1H
BEGIN:VTIMEZONE
TZID:America/Chicago
BEGIN:DAYLIGHT
TZOFFSETFROM:-0600
TZOFFSETTO:-0500
TZNAME:CDT
DTSTART:20240310T080000
END:DAYLIGHT
BEGIN:STANDARD
TZOFFSETFROM:-0500
TZOFFSETTO:-0600
TZNAME:CST
DTSTART:20241103T070000
END:STANDARD
BEGIN:DAYLIGHT
TZOFFSETFROM:-0600
TZOFFSETTO:-0500
TZNAME:CDT
DTSTART:20250309T080000
END:DAYLIGHT
BEGIN:STANDARD
TZOFFSETFROM:-0500
TZOFFSETTO:-0600
TZNAME:CST
DTSTART:20251102T070000
END:STANDARD
BEGIN:DAYLIGHT
TZOFFSETFROM:-0600
TZOFFSETTO:-0500
TZNAME:CDT
DTSTART:20260308T080000
END:DAYLIGHT
BEGIN:STANDARD
TZOFFSETFROM:-0500
TZOFFSETTO:-0600
TZNAME:CST
DTSTART:20261101T070000
END:STANDARD
END:VTIMEZONE
BEGIN:VEVENT
DTSTART;TZID=America/Chicago:20250916T170000
DTEND;TZID=America/Chicago:20250916T193000
DTSTAMP:20260425T231546
CREATED:20250902T200441Z
LAST-MODIFIED:20250902T200441Z
UID:2618-1758042000-1758051000@linden-hill.org
SUMMARY:Fall for Pottery: A Cozy Night Out at Linden Hill
DESCRIPTION:Tour the Musser and Weyerhaeuser mansions decorated with the theme\, "12 Days of Christmas." \nVisitors are welcome to tour anytime during the open hours with final entry permitted 1-hour prior to closing. Tours begin at the front entrance of the Weyerhaeuser (green) mansion and end next door at the Musser (white) mansion. Shoe covers are provided at the entry to each home or bring a pair of your own slippers to wear while touring the mansions. Hot cider and cookies will be served at the end of your tour and Laura Jane's Gift Shoppe will be open for holiday shopping. \nTickets: \n$20 - Adults \n$5 - Youth (12-17yrs) \nChildren 11 & Under are FREE-must be well supervised by an adult. \nOnline ticket purchases are good for any of the ten tour dates. Present your printed or mobile ticket upon entry. Online tickets available here: https://events.humanitix.com/christmas-at-the-mansions-2025 \nTickets are always available at the door for walk-up sales. Present your printed or mobile ticket upon entry. Groups of 30+ receive a discounted rate - please call for more information.
URL:https://linden-hill.org/event/fall-for-pottery-a-cozy-night-out-at-linden-hill/
LOCATION:Linden Hill Historic Estate\, 608 Highland Avenue\, Little Falls\, MN\, 56345\, United States
CATEGORIES:Event
ATTACH;FMTTYPE=image/jpeg:https://linden-hill.org/wp-content/uploads/2025/09/Leaf-River-Pottery.jpg
ORGANIZER;CN="Little Falls Community Services":MAILTO:kgruber@lfalls.k12.mn.us
END:VEVENT
BEGIN:VEVENT
DTSTART;TZID=America/Chicago:20250925T171500
DTEND;TZID=America/Chicago:20250925T183000
DTSTAMP:20260425T231546
CREATED:20250821T201541Z
LAST-MODIFIED:20250821T201630Z
UID:2610-1758820500-1758825000@linden-hill.org
SUMMARY:Art Journaling at Linden Hill with GRA
DESCRIPTION:Tour the Musser and Weyerhaeuser mansions decorated with the theme\, "12 Days of Christmas." \nVisitors are welcome to tour anytime during the open hours with final entry permitted 1-hour prior to closing. Tours begin at the front entrance of the Weyerhaeuser (green) mansion and end next door at the Musser (white) mansion. Shoe covers are provided at the entry to each home or bring a pair of your own slippers to wear while touring the mansions. Hot cider and cookies will be served at the end of your tour and Laura Jane's Gift Shoppe will be open for holiday shopping. \nTickets: \n$20 - Adults \n$5 - Youth (12-17yrs) \nChildren 11 & Under are FREE-must be well supervised by an adult. \nOnline ticket purchases are good for any of the ten tour dates. Present your printed or mobile ticket upon entry. Online tickets available here: https://events.humanitix.com/christmas-at-the-mansions-2025 \nTickets are always available at the door for walk-up sales. Present your printed or mobile ticket upon entry. Groups of 30+ receive a discounted rate - please call for more information.
URL:https://linden-hill.org/event/art-journaling-at-linden-hill-with-gra/
LOCATION:Linden Hill Historic Estate\, 608 Highland Avenue\, Little Falls\, MN\, 56345\, United States
CATEGORIES:Event
ATTACH;FMTTYPE=image/jpeg:https://linden-hill.org/wp-content/uploads/2025/08/Art-Journaling-at-Linden-Hill.jpg
ORGANIZER;CN="Great River Arts":MAILTO:info@greatart.org
END:VEVENT
BEGIN:VEVENT
DTSTART;TZID=America/Chicago:20250927T130000
DTEND;TZID=America/Chicago:20250927T160000
DTSTAMP:20260425T231546
CREATED:20250224T181125Z
LAST-MODIFIED:20250905T211519Z
UID:2249-1758978000-1758988800@linden-hill.org
SUMMARY:Wine & Chocolate Walk
DESCRIPTION:Tour the Musser and Weyerhaeuser mansions decorated with the theme\, "12 Days of Christmas." \nVisitors are welcome to tour anytime during the open hours with final entry permitted 1-hour prior to closing. Tours begin at the front entrance of the Weyerhaeuser (green) mansion and end next door at the Musser (white) mansion. Shoe covers are provided at the entry to each home or bring a pair of your own slippers to wear while touring the mansions. Hot cider and cookies will be served at the end of your tour and Laura Jane's Gift Shoppe will be open for holiday shopping. \nTickets: \n$20 - Adults \n$5 - Youth (12-17yrs) \nChildren 11 & Under are FREE-must be well supervised by an adult. \nOnline ticket purchases are good for any of the ten tour dates. Present your printed or mobile ticket upon entry. Online tickets available here: https://events.humanitix.com/christmas-at-the-mansions-2025 \nTickets are always available at the door for walk-up sales. Present your printed or mobile ticket upon entry. Groups of 30+ receive a discounted rate - please call for more information.
URL:https://linden-hill.org/event/wine-chocolate-walk/
LOCATION:Linden Hill Historic Estate\, 608 Highland Avenue\, Little Falls\, MN\, 56345\, United States
CATEGORIES:Fund Raisers
ATTACH;FMTTYPE=image/png:https://linden-hill.org/wp-content/uploads/2025/02/Wine-Chocolate-Walk-2025.png
ORGANIZER;CN="Friends of Linden Hill%2C Inc.":MAILTO:info@linden-hill.org
END:VEVENT
END:VCALENDAR