BEGIN:VCALENDAR
VERSION:2.0
PRODID:-//Linden Hill Historic Estate - ECPv6.15.18//NONSGML v1.0//EN
CALSCALE:GREGORIAN
METHOD:PUBLISH
X-ORIGINAL-URL:https://linden-hill.org
X-WR-CALDESC:Events for Linden Hill Historic Estate
REFRESH-INTERVAL;VALUE=DURATION:PT1H
X-Robots-Tag:noindex
X-PUBLISHED-TTL:PT1H
BEGIN:VTIMEZONE
TZID:America/Chicago
BEGIN:DAYLIGHT
TZOFFSETFROM:-0600
TZOFFSETTO:-0500
TZNAME:CDT
DTSTART:20240310T080000
END:DAYLIGHT
BEGIN:STANDARD
TZOFFSETFROM:-0500
TZOFFSETTO:-0600
TZNAME:CST
DTSTART:20241103T070000
END:STANDARD
BEGIN:DAYLIGHT
TZOFFSETFROM:-0600
TZOFFSETTO:-0500
TZNAME:CDT
DTSTART:20250309T080000
END:DAYLIGHT
BEGIN:STANDARD
TZOFFSETFROM:-0500
TZOFFSETTO:-0600
TZNAME:CST
DTSTART:20251102T070000
END:STANDARD
BEGIN:DAYLIGHT
TZOFFSETFROM:-0600
TZOFFSETTO:-0500
TZNAME:CDT
DTSTART:20260308T080000
END:DAYLIGHT
BEGIN:STANDARD
TZOFFSETFROM:-0500
TZOFFSETTO:-0600
TZNAME:CST
DTSTART:20261101T070000
END:STANDARD
END:VTIMEZONE
BEGIN:VEVENT
DTSTART;TZID=America/Chicago:20251201T130000
DTEND;TZID=America/Chicago:20251201T190000
DTSTAMP:20260425T192028
CREATED:20250224T184858Z
LAST-MODIFIED:20251021T185351Z
UID:2271-1764594000-1764615600@linden-hill.org
SUMMARY:Christmas at the Mansions
DESCRIPTION:Tour the Musser and Weyerhaeuser mansions decorated with the theme\, "12 Days of Christmas." \nVisitors are welcome to tour anytime during the open hours with final entry permitted 1-hour prior to closing. Tours begin at the front entrance of the Weyerhaeuser (green) mansion and end next door at the Musser (white) mansion. Shoe covers are provided at the entry to each home or bring a pair of your own slippers to wear while touring the mansions. Hot cider and cookies will be served at the end of your tour and Laura Jane's Gift Shoppe will be open for holiday shopping. \nTickets: \n$20 - Adults \n$5 - Youth (12-17yrs) \nChildren 11 & Under are FREE-must be well supervised by an adult. \nOnline ticket purchases are good for any of the ten tour dates. Present your printed or mobile ticket upon entry. Online tickets available here: https://events.humanitix.com/christmas-at-the-mansions-2025 \nTickets are always available at the door for walk-up sales. Present your printed or mobile ticket upon entry. Groups of 30+ receive a discounted rate - please call for more information.
URL:https://linden-hill.org/event/christmas-at-the-mansions-2-copy-2/
LOCATION:Linden Hill Historic Estate\, 608 Highland Avenue\, Little Falls\, MN\, 56345\, United States
CATEGORIES:Tours
ATTACH;FMTTYPE=image/png:https://linden-hill.org/wp-content/uploads/2025/02/Christmas-at-the-Mansions-Banner-2025.png
ORGANIZER;CN="Friends of Linden Hill%2C Inc.":MAILTO:info@linden-hill.org
END:VEVENT
BEGIN:VEVENT
DTSTART;TZID=America/Chicago:20251202T130000
DTEND;TZID=America/Chicago:20251202T190000
DTSTAMP:20260425T192028
CREATED:20250224T193245Z
LAST-MODIFIED:20251021T185339Z
UID:2296-1764680400-1764702000@linden-hill.org
SUMMARY:Christmas at the Mansions
DESCRIPTION:Tour the Musser and Weyerhaeuser mansions decorated with the theme\, "12 Days of Christmas." \nVisitors are welcome to tour anytime during the open hours with final entry permitted 1-hour prior to closing. Tours begin at the front entrance of the Weyerhaeuser (green) mansion and end next door at the Musser (white) mansion. Shoe covers are provided at the entry to each home or bring a pair of your own slippers to wear while touring the mansions. Hot cider and cookies will be served at the end of your tour and Laura Jane's Gift Shoppe will be open for holiday shopping. \nTickets: \n$20 - Adults \n$5 - Youth (12-17yrs) \nChildren 11 & Under are FREE-must be well supervised by an adult. \nOnline ticket purchases are good for any of the ten tour dates. Present your printed or mobile ticket upon entry. Online tickets available here: https://events.humanitix.com/christmas-at-the-mansions-2025 \nTickets are always available at the door for walk-up sales. Present your printed or mobile ticket upon entry. Groups of 30+ receive a discounted rate - please call for more information.
URL:https://linden-hill.org/event/christmas-at-the-mansions-2-copy-2-copy/
LOCATION:Linden Hill Historic Estate\, 608 Highland Avenue\, Little Falls\, MN\, 56345\, United States
CATEGORIES:Tours
ATTACH;FMTTYPE=image/png:https://linden-hill.org/wp-content/uploads/2025/02/Christmas-at-the-Mansions-Banner-2025.png
ORGANIZER;CN="Friends of Linden Hill%2C Inc.":MAILTO:info@linden-hill.org
END:VEVENT
BEGIN:VEVENT
DTSTART;TZID=America/Chicago:20251203T130000
DTEND;TZID=America/Chicago:20251203T190000
DTSTAMP:20260425T192028
CREATED:20250224T193648Z
LAST-MODIFIED:20251021T185410Z
UID:2301-1764766800-1764788400@linden-hill.org
SUMMARY:Christmas at the Mansions
DESCRIPTION:Tour the Musser and Weyerhaeuser mansions decorated with the theme\, "12 Days of Christmas." \nVisitors are welcome to tour anytime during the open hours with final entry permitted 1-hour prior to closing. Tours begin at the front entrance of the Weyerhaeuser (green) mansion and end next door at the Musser (white) mansion. Shoe covers are provided at the entry to each home or bring a pair of your own slippers to wear while touring the mansions. Hot cider and cookies will be served at the end of your tour and Laura Jane's Gift Shoppe will be open for holiday shopping. \nTickets: \n$20 - Adults \n$5 - Youth (12-17yrs) \nChildren 11 & Under are FREE-must be well supervised by an adult. \nOnline ticket purchases are good for any of the ten tour dates. Present your printed or mobile ticket upon entry. Online tickets available here: https://events.humanitix.com/christmas-at-the-mansions-2025 \nTickets are always available at the door for walk-up sales. Present your printed or mobile ticket upon entry. Groups of 30+ receive a discounted rate - please call for more information.
URL:https://linden-hill.org/event/christmas-at-the-mansions-2-copy-2-copy-2/
LOCATION:Linden Hill Historic Estate\, 608 Highland Avenue\, Little Falls\, MN\, 56345\, United States
CATEGORIES:Tours
ATTACH;FMTTYPE=image/png:https://linden-hill.org/wp-content/uploads/2025/02/Christmas-at-the-Mansions-Banner-2025.png
ORGANIZER;CN="Friends of Linden Hill%2C Inc.":MAILTO:info@linden-hill.org
END:VEVENT
BEGIN:VEVENT
DTSTART;TZID=America/Chicago:20251204T130000
DTEND;TZID=America/Chicago:20251204T190000
DTSTAMP:20260425T192028
CREATED:20250224T193915Z
LAST-MODIFIED:20251021T154406Z
UID:2305-1764853200-1764874800@linden-hill.org
SUMMARY:Christmas at the Mansions
DESCRIPTION:Tour the Musser and Weyerhaeuser mansions decorated with the theme\, "12 Days of Christmas." \nVisitors are welcome to tour anytime during the open hours with final entry permitted 1-hour prior to closing. Tours begin at the front entrance of the Weyerhaeuser (green) mansion and end next door at the Musser (white) mansion. Shoe covers are provided at the entry to each home or bring a pair of your own slippers to wear while touring the mansions. Hot cider and cookies will be served at the end of your tour and Laura Jane's Gift Shoppe will be open for holiday shopping. \nTickets: \n$20 - Adults \n$5 - Youth (12-17yrs) \nChildren 11 & Under are FREE-must be well supervised by an adult. \nOnline ticket purchases are good for any of the ten tour dates. Present your printed or mobile ticket upon entry. Online tickets available here: https://events.humanitix.com/christmas-at-the-mansions-2025 \nTickets are always available at the door for walk-up sales. Present your printed or mobile ticket upon entry. Groups of 30+ receive a discounted rate - please call for more information.
URL:https://linden-hill.org/event/christmas-at-the-mansions-2-copy-2-copy-2-copy/
LOCATION:Linden Hill Historic Estate\, 608 Highland Avenue\, Little Falls\, MN\, 56345\, United States
CATEGORIES:Tours
ATTACH;FMTTYPE=image/png:https://linden-hill.org/wp-content/uploads/2025/02/Christmas-at-the-Mansions-Banner-2025.png
ORGANIZER;CN="Friends of Linden Hill%2C Inc.":MAILTO:info@linden-hill.org
END:VEVENT
BEGIN:VEVENT
DTSTART;TZID=America/Chicago:20251205T130000
DTEND;TZID=America/Chicago:20251205T190000
DTSTAMP:20260425T192029
CREATED:20250224T194046Z
LAST-MODIFIED:20251021T185421Z
UID:2310-1764939600-1764961200@linden-hill.org
SUMMARY:Christmas at the Mansions
DESCRIPTION:Tour the Musser and Weyerhaeuser mansions decorated with the theme\, "12 Days of Christmas." \nVisitors are welcome to tour anytime during the open hours with final entry permitted 1-hour prior to closing. Tours begin at the front entrance of the Weyerhaeuser (green) mansion and end next door at the Musser (white) mansion. Shoe covers are provided at the entry to each home or bring a pair of your own slippers to wear while touring the mansions. Hot cider and cookies will be served at the end of your tour and Laura Jane's Gift Shoppe will be open for holiday shopping. \nTickets: \n$20 - Adults \n$5 - Youth (12-17yrs) \nChildren 11 & Under are FREE-must be well supervised by an adult. \nOnline ticket purchases are good for any of the ten tour dates. Present your printed or mobile ticket upon entry. Online tickets available here: https://events.humanitix.com/christmas-at-the-mansions-2025 \nTickets are always available at the door for walk-up sales. Present your printed or mobile ticket upon entry. Groups of 30+ receive a discounted rate - please call for more information.
URL:https://linden-hill.org/event/christmas-at-the-mansions-2-copy-2-copy-2-copy-copy/
LOCATION:Linden Hill Historic Estate\, 608 Highland Avenue\, Little Falls\, MN\, 56345\, United States
CATEGORIES:Tours
ATTACH;FMTTYPE=image/png:https://linden-hill.org/wp-content/uploads/2025/02/Christmas-at-the-Mansions-Banner-2025.png
ORGANIZER;CN="Friends of Linden Hill%2C Inc.":MAILTO:info@linden-hill.org
END:VEVENT
BEGIN:VEVENT
DTSTART;TZID=America/Chicago:20251206T130000
DTEND;TZID=America/Chicago:20251206T190000
DTSTAMP:20260425T192029
CREATED:20250224T194218Z
LAST-MODIFIED:20251021T185442Z
UID:2315-1765026000-1765047600@linden-hill.org
SUMMARY:Christmas at the Mansions
DESCRIPTION:Tour the Musser and Weyerhaeuser mansions decorated with the theme\, "12 Days of Christmas." \nVisitors are welcome to tour anytime during the open hours with final entry permitted 1-hour prior to closing. Tours begin at the front entrance of the Weyerhaeuser (green) mansion and end next door at the Musser (white) mansion. Shoe covers are provided at the entry to each home or bring a pair of your own slippers to wear while touring the mansions. Hot cider and cookies will be served at the end of your tour and Laura Jane's Gift Shoppe will be open for holiday shopping. \nTickets: \n$20 - Adults \n$5 - Youth (12-17yrs) \nChildren 11 & Under are FREE-must be well supervised by an adult. \nOnline ticket purchases are good for any of the ten tour dates. Present your printed or mobile ticket upon entry. Online tickets available here: https://events.humanitix.com/christmas-at-the-mansions-2025 \nTickets are always available at the door for walk-up sales. Present your printed or mobile ticket upon entry. Groups of 30+ receive a discounted rate - please call for more information.
URL:https://linden-hill.org/event/christmas-at-the-mansions-2-copy-2-copy-2-copy-copy-2/
LOCATION:Linden Hill Historic Estate\, 608 Highland Avenue\, Little Falls\, MN\, 56345\, United States
CATEGORIES:Tours
ATTACH;FMTTYPE=image/png:https://linden-hill.org/wp-content/uploads/2025/02/Christmas-at-the-Mansions-Banner-2025.png
ORGANIZER;CN="Friends of Linden Hill%2C Inc.":MAILTO:info@linden-hill.org
END:VEVENT
BEGIN:VEVENT
DTSTART;TZID=America/Chicago:20251207T110000
DTEND;TZID=America/Chicago:20251207T180000
DTSTAMP:20260425T192029
CREATED:20250224T194419Z
LAST-MODIFIED:20251021T185454Z
UID:2320-1765105200-1765130400@linden-hill.org
SUMMARY:Christmas at the Mansions
DESCRIPTION:Tour the Musser and Weyerhaeuser mansions decorated with the theme\, "12 Days of Christmas." \nVisitors are welcome to tour anytime during the open hours with final entry permitted 1-hour prior to closing. Tours begin at the front entrance of the Weyerhaeuser (green) mansion and end next door at the Musser (white) mansion. Shoe covers are provided at the entry to each home or bring a pair of your own slippers to wear while touring the mansions. Hot cider and cookies will be served at the end of your tour and Laura Jane's Gift Shoppe will be open for holiday shopping. \nTickets: \n$20 - Adults \n$5 - Youth (12-17yrs) \nChildren 11 & Under are FREE-must be well supervised by an adult. \nOnline ticket purchases are good for any of the ten tour dates. Present your printed or mobile ticket upon entry. Online tickets available here: https://events.humanitix.com/christmas-at-the-mansions-2025 \nTickets are always available at the door for walk-up sales. Present your printed or mobile ticket upon entry. Groups of 30+ receive a discounted rate - please call for more information.
URL:https://linden-hill.org/event/christmas-at-the-mansions-2-copy-2-copy-2-copy-copy-2-copy/
LOCATION:Linden Hill Historic Estate\, 608 Highland Avenue\, Little Falls\, MN\, 56345\, United States
CATEGORIES:Tours
ATTACH;FMTTYPE=image/png:https://linden-hill.org/wp-content/uploads/2025/02/Christmas-at-the-Mansions-Banner-2025.png
ORGANIZER;CN="Friends of Linden Hill%2C Inc.":MAILTO:info@linden-hill.org
END:VEVENT
END:VCALENDAR